BEGIN:VCALENDAR
VERSION:2.0
PRODID:-// - ECPv6.15.11//NONSGML v1.0//EN
CALSCALE:GREGORIAN
METHOD:PUBLISH
X-ORIGINAL-URL:https://familyfoundations.uk
X-WR-CALDESC:Events for 
REFRESH-INTERVAL;VALUE=DURATION:PT1H
X-Robots-Tag:noindex
X-PUBLISHED-TTL:PT1H
BEGIN:VTIMEZONE
TZID:Europe/London
BEGIN:DAYLIGHT
TZOFFSETFROM:+0000
TZOFFSETTO:+0100
TZNAME:BST
DTSTART:20240331T010000
END:DAYLIGHT
BEGIN:STANDARD
TZOFFSETFROM:+0100
TZOFFSETTO:+0000
TZNAME:GMT
DTSTART:20241027T010000
END:STANDARD
BEGIN:DAYLIGHT
TZOFFSETFROM:+0000
TZOFFSETTO:+0100
TZNAME:BST
DTSTART:20250330T010000
END:DAYLIGHT
BEGIN:STANDARD
TZOFFSETFROM:+0100
TZOFFSETTO:+0000
TZNAME:GMT
DTSTART:20251026T010000
END:STANDARD
BEGIN:DAYLIGHT
TZOFFSETFROM:+0000
TZOFFSETTO:+0100
TZNAME:BST
DTSTART:20260329T010000
END:DAYLIGHT
BEGIN:STANDARD
TZOFFSETFROM:+0100
TZOFFSETTO:+0000
TZNAME:GMT
DTSTART:20261025T010000
END:STANDARD
END:VTIMEZONE
BEGIN:VEVENT
DTSTART;TZID=Europe/London:20251016T000000
DTEND;TZID=Europe/London:20251129T235959
DTSTAMP:20260420T225103
CREATED:20250103T054952Z
LAST-MODIFIED:20250702T163535Z
UID:3834-1760572800-1764460799@familyfoundations.uk
SUMMARY:Marriage Seminar
DESCRIPTION:October 15		\n\n		\n									\n					 - 				\n			\n							\n					November 28				\n\n				\n			\n						 \n\n \n \nUNCONDITIONAL LOVE COURSE (MARRIAGE SEMINAR) \n \nThe Marriage Seminar – this is a 7-week-long course\, consisting of one night per week and finishing with a Friday evening and Saturday seminar. Please note this seminar is only for married couples. \nAll seminars are delivered online via Zoom\, allowing you to join remotely unless a seminar is specifically listed as in-person. A joining link will be sent to you ahead of the session. \n \nTopics include: \n \n\n\n\n\n\n\n\n\nMarriage is a Covenant\n\n\n\n \n\n\n\nThreshold Covenant: The Original Concept of the Covenant\n\n\n\n \n\n\n\nHow to Understand and Resolve Conflicts\n\n\n\n \n\n\n\nTransparency: The Key to Intimacy\n\n\n\n \n\n\n\nForgiveness & Practising Forgiveness\n\n\n\n \n\n\n\nUsing Conflict to Identify Roots\n\n\n\n \n\n\n\nRestoring the Value of Covenant to Society\n\n\n\n \n\n\n\nRestoring the Value of Covenant to Your Marriage\n\n\n\n \n\n\n\n4 Key Components to Blood Covenant\n\n\n\n \n \nThe Blessing Generations Seminar is a required prerequisite seminar. \n \nSeminar Dates: 16\, 30 October & 6\, 13\, 20\, 28–29 November *Subject to change \nTimings:The first weeknight is Thursday 19:00-22:00\, thereafter 19:30-22:00 for the upcoming Thursdays. The last weekend is Fri 19:30-22:00 & Sat 8:30-14:30. \n \n \nBOOK NOW \n	\n		\n			\n				\n					\n						\n	\n	\n\n						\n							Add to calendar						\n						\n	\n\n					\n					\n						\n															\n									\n										Google Calendar									\n								\n															\n									\n										iCalendar									\n								\n															\n									\n										Outlook 365									\n								\n															\n									\n										Outlook Live
URL:https://familyfoundations.uk/event/marriage-seminar/
ATTACH;FMTTYPE=image/png:https://familyfoundations.uk/wp-content/uploads/2024/07/9.png
END:VEVENT
END:VCALENDAR